BEGIN:VCALENDAR
VERSION:2.0
PRODID:-//CFDT VINCI Autoroutes (ASF) - ECPv4.8.1//NONSGML v1.0//EN
CALSCALE:GREGORIAN
METHOD:PUBLISH
X-WR-CALNAME:CFDT VINCI Autoroutes (ASF)
X-ORIGINAL-URL:https://www.cfdt-asf.com
X-WR-CALDESC:Évènements pour CFDT VINCI Autoroutes (ASF)
BEGIN:VEVENT
DTSTART;VALUE=DATE:20191219
DTEND;VALUE=DATE:20191220
DTSTAMP:20260419T143931
CREATED:20190718T160857Z
LAST-MODIFIED:20190718T160857Z
UID:5046-1576713600-1576799999@www.cfdt-asf.com
SUMMARY:19 décembre 2019 - Négociation Agenda Social à 9h00
DESCRIPTION:
URL:https://www.cfdt-asf.com/event/19-decembre-2019-negociation-agenda-social-a-9h00/
LOCATION:VEDENE
END:VEVENT
END:VCALENDAR