BEGIN:VCALENDAR
VERSION:2.0
PRODID:-//CFDT VINCI Autoroutes (ASF) - ECPv4.8.1//NONSGML v1.0//EN
CALSCALE:GREGORIAN
METHOD:PUBLISH
X-WR-CALNAME:CFDT VINCI Autoroutes (ASF)
X-ORIGINAL-URL:https://www.cfdt-asf.com
X-WR-CALDESC:Évènements pour CFDT VINCI Autoroutes (ASF)
BEGIN:VEVENT
DTSTART;VALUE=DATE:20191119
DTEND;VALUE=DATE:20191120
DTSTAMP:20260419T212620
CREATED:20191010T144601Z
LAST-MODIFIED:20191010T144601Z
UID:5877-1574121600-1574207999@www.cfdt-asf.com
SUMMARY:19 novembre 2019 - Commission Couverture Sociale à 13h30
DESCRIPTION:
URL:https://www.cfdt-asf.com/event/19-novembre-2019-commission-couverture-sociale-a-13h30/
LOCATION:VEDENE
END:VEVENT
END:VCALENDAR