BEGIN:VCALENDAR
VERSION:2.0
PRODID:-//CFDT VINCI Autoroutes (ASF) - ECPv4.8.1//NONSGML v1.0//EN
CALSCALE:GREGORIAN
METHOD:PUBLISH
X-WR-CALNAME:CFDT VINCI Autoroutes (ASF)
X-ORIGINAL-URL:https://www.cfdt-asf.com
X-WR-CALDESC:Évènements pour CFDT VINCI Autoroutes (ASF)
BEGIN:VEVENT
DTSTART;VALUE=DATE:20191107
DTEND;VALUE=DATE:20191108
DTSTAMP:20260420T022956
CREATED:20190718T160133Z
LAST-MODIFIED:20190718T160133Z
UID:5038-1573084800-1573171199@www.cfdt-asf.com
SUMMARY:7 novembre 2019 - Formation bureau de vote élections professionnelles
DESCRIPTION:
URL:https://www.cfdt-asf.com/event/7-novembre-2019-formation-bureau-de-vote-elections-professionnelles/
LOCATION:VEDENE
END:VEVENT
END:VCALENDAR