BEGIN:VCALENDAR
VERSION:2.0
PRODID:-//CFDT VINCI Autoroutes (ASF) - ECPv4.8.1//NONSGML v1.0//EN
CALSCALE:GREGORIAN
METHOD:PUBLISH
X-WR-CALNAME:CFDT VINCI Autoroutes (ASF)
X-ORIGINAL-URL:https://www.cfdt-asf.com
X-WR-CALDESC:Évènements pour CFDT VINCI Autoroutes (ASF)
BEGIN:VEVENT
DTSTART;TZID=Europe/Paris:20250625T133000
DTEND;TZID=Europe/Paris:20250625T170000
DTSTAMP:20260421T053522
CREATED:20241213T104508Z
LAST-MODIFIED:20241213T104508Z
UID:23950-1750858200-1750870800@www.cfdt-asf.com
SUMMARY:Commission Economique CSE-C 13h30 VEDENE
DESCRIPTION:
URL:https://www.cfdt-asf.com/event/commission-economique-cse-c-13h30-vedene/
LOCATION:VEDENE
END:VEVENT
END:VCALENDAR