BEGIN:VCALENDAR
VERSION:2.0
PRODID:-//CFDT VINCI Autoroutes (ASF) - ECPv4.8.1//NONSGML v1.0//EN
CALSCALE:GREGORIAN
METHOD:PUBLISH
X-WR-CALNAME:CFDT VINCI Autoroutes (ASF)
X-ORIGINAL-URL:https://www.cfdt-asf.com
X-WR-CALDESC:Évènements pour CFDT VINCI Autoroutes (ASF)
BEGIN:VEVENT
DTSTART;TZID=Europe/Paris:20250725T110000
DTEND;TZID=Europe/Paris:20250725T130000
DTSTAMP:20260420T204826
CREATED:20241213T105113Z
LAST-MODIFIED:20241213T105113Z
UID:23963-1753441200-1753448400@www.cfdt-asf.com
SUMMARY:Conseil Administration ASF 11h00 NANTERRE
DESCRIPTION:
URL:https://www.cfdt-asf.com/event/conseil-administration-asf-11h00-nanterre/
LOCATION:NANTERRE
END:VEVENT
END:VCALENDAR