BEGIN:VCALENDAR
VERSION:2.0
PRODID:-//CFDT VINCI Autoroutes (ASF) - ECPv4.8.1//NONSGML v1.0//EN
CALSCALE:GREGORIAN
METHOD:PUBLISH
X-WR-CALNAME:CFDT VINCI Autoroutes (ASF)
X-ORIGINAL-URL:https://www.cfdt-asf.com
X-WR-CALDESC:Évènements pour CFDT VINCI Autoroutes (ASF)
BEGIN:VEVENT
DTSTART;TZID=Europe/Paris:20251007T090000
DTEND;TZID=Europe/Paris:20251007T170000
DTSTAMP:20260420T185829
CREATED:20241213T105204Z
LAST-MODIFIED:20241213T105204Z
UID:23966-1759827600-1759856400@www.cfdt-asf.com
SUMMARY:CSE-Central 9h00 VEDENE
DESCRIPTION:
URL:https://www.cfdt-asf.com/event/cse-central-9h00-vedene/
LOCATION:VEDENE
END:VEVENT
END:VCALENDAR