BEGIN:VCALENDAR
VERSION:2.0
PRODID:-//CFDT VINCI Autoroutes (ASF) - ECPv4.8.1//NONSGML v1.0//EN
CALSCALE:GREGORIAN
METHOD:PUBLISH
X-WR-CALNAME:CFDT VINCI Autoroutes (ASF)
X-ORIGINAL-URL:https://www.cfdt-asf.com
X-WR-CALDESC:Évènements pour CFDT VINCI Autoroutes (ASF)
BEGIN:VEVENT
DTSTART;TZID=Europe/Paris:20250626T090000
DTEND;TZID=Europe/Paris:20250626T120000
DTSTAMP:20260421T035232
CREATED:20241213T104651Z
LAST-MODIFIED:20241213T104651Z
UID:23954-1750928400-1750939200@www.cfdt-asf.com
SUMMARY:Observatoire QVCT 9h00 VEDENE
DESCRIPTION:
URL:https://www.cfdt-asf.com/event/observatoire-qvct-9h00-vedene/
LOCATION:VEDENE
END:VEVENT
END:VCALENDAR